BEGIN:VCALENDAR
VERSION:2.0
PRODID:-//Choppers N Partys - ECPv5.9.0//NONSGML v1.0//EN
CALSCALE:GREGORIAN
METHOD:PUBLISH
X-WR-CALNAME:Choppers N Partys
X-ORIGINAL-URL:https://choppersnpartys.de
X-WR-CALDESC:Veranstaltungen für Choppers N Partys
BEGIN:VTIMEZONE
TZID:Europe/Berlin
BEGIN:DAYLIGHT
TZOFFSETFROM:+0100
TZOFFSETTO:+0200
TZNAME:CEST
DTSTART:20230326T010000
END:DAYLIGHT
BEGIN:STANDARD
TZOFFSETFROM:+0200
TZOFFSETTO:+0100
TZNAME:CET
DTSTART:20231029T010000
END:STANDARD
END:VTIMEZONE
BEGIN:VEVENT
DTSTART;TZID=Europe/Berlin:20230621T080000
DTEND;TZID=Europe/Berlin:20230627T080000
DTSTAMP:20260419T145913
CREATED:20230131T014516Z
LAST-MODIFIED:20230210T200652Z
UID:142757-1687334400-1687852800@choppersnpartys.de
SUMMARY:Choppers n Partys goes to Budpest
DESCRIPTION:CNP goes to Budpest Update\n21.06-27.06.2023\nProgramm:\nBudapest 2023\nTermin: 21.06.-26.06.2023\nLeistungen:\n2x Übernachtungen/Frühstück in Prag\n3x Übernachtung/Frühstück in Budapest\nJeweils 4 Sterne Hotels\nDas Veranstaltungsgelände für die Harley Days ist ca. 2\,5 km entfernt\nZuzüglich:\nEintrittskarten zum Gelände der Harley Days in Budapest\nKurtaxe\nParkplatz für die Motorräder\nPreis pro Person im Einzelzimmer: 900\,00€\nPreis pro Person im Doppelzimmer: 480\,00€\nWir übernehmen keine Buchungen. Jeder der Interesse hat\, meldet sich bitte bei Peter Cheffe per WhatsApp.\nTel: +49 176 20736268\nEr wird anschließend eine WhatsApp Gruppe erstellen und alle Teilnehmer hinzufügen für weitere Informationen.\nEs besteht unserer Seite her keine Verpflichtung\nAlle Angaben ohne Gewähr\n1. Tag 21.06.2023\nTreffen aller Teilnehmer am Rasthof Wunnenstein um 08:00 Uhr. Gemeinsam machen wir uns auf den Weg Richtung Budapest zu den Harley Days. Über die A6 fahren wir gemeinsam nach Budweis zu unserer ersten Übernachtung.\n2. Tag 22.06.2023\nNach dem Frühstück machen wir uns auf den Weg nach Budapest\, ins Hotel\n3.-5. Tag 23.06-25.06.2023\nViel Spaß in Budapest\n6. Tag 26.06.2023\nNach dem Frühstück verabschieden wir uns von Budapest und machen uns wieder auf den Weg nach Stuttgart. Bevor wir dort ankommen übernachten wir in Prag\n7. Tag 27.06.2023\nNach dem Frühstück treten wir unsere letzte Strecke nach einer geilen Woche an. Wer Lust hat kann sich unserem Roadkäppchen anschließen und entlang der Moldau nach Stuttgart fahren. Alle anderen fahren über die Autobahn nach Stuttgart.\n\nDieses Programm dient zur Orientierung\, da ich jetzt die Hotels angefragt habe müssen wir nochmals eine Abfrage stellen bezüglich Interesse.\nKM Angaben\nStuttgart &#8211; Budweis 500 km\nBudweis &#8211; Budapest 435 km\nBudapest- Prag 520 km\nPrag- Stuttgart 500 km Alle infos und fragen bitte an Peter Cheffe unter der Nummer: +49 176 20736268\nLink Versnstaltung:\nhttps://fb.me/e/5YIhi7wrR \nWeniger anzeigen
URL:https://choppersnpartys.de/event/choppers-n-partys-goes-to-budpest/
CATEGORIES:Ausfahrten,Party
ATTACH;FMTTYPE=image/jpeg:https://choppersnpartys.de/wp-content/uploads/2023/01/324434147_2230665240451435_716716716378173166_n.jpg
END:VEVENT
END:VCALENDAR